BEGIN:VCALENDAR
VERSION:2.0
PRODID:-//Rotherham Wheelers CC - ECPv6.15.20//NONSGML v1.0//EN
CALSCALE:GREGORIAN
METHOD:PUBLISH
X-ORIGINAL-URL:https://rotherhamwheelerscc.uk
X-WR-CALDESC:Events for Rotherham Wheelers CC
REFRESH-INTERVAL;VALUE=DURATION:PT1H
X-Robots-Tag:noindex
X-PUBLISHED-TTL:PT1H
BEGIN:VTIMEZONE
TZID:Europe/London
BEGIN:DAYLIGHT
TZOFFSETFROM:+0000
TZOFFSETTO:+0100
TZNAME:BST
DTSTART:20230326T010000
END:DAYLIGHT
BEGIN:STANDARD
TZOFFSETFROM:+0100
TZOFFSETTO:+0000
TZNAME:GMT
DTSTART:20231029T010000
END:STANDARD
BEGIN:DAYLIGHT
TZOFFSETFROM:+0000
TZOFFSETTO:+0100
TZNAME:BST
DTSTART:20240331T010000
END:DAYLIGHT
BEGIN:STANDARD
TZOFFSETFROM:+0100
TZOFFSETTO:+0000
TZNAME:GMT
DTSTART:20241027T010000
END:STANDARD
BEGIN:DAYLIGHT
TZOFFSETFROM:+0000
TZOFFSETTO:+0100
TZNAME:BST
DTSTART:20250330T010000
END:DAYLIGHT
BEGIN:STANDARD
TZOFFSETFROM:+0100
TZOFFSETTO:+0000
TZNAME:GMT
DTSTART:20251026T010000
END:STANDARD
END:VTIMEZONE
BEGIN:VEVENT
DTSTART;TZID=Europe/London:20241207T093000
DTEND;TZID=Europe/London:20241207T093000
DTSTAMP:20260423T160106
CREATED:20241105T111450Z
LAST-MODIFIED:20241105T111450Z
UID:2467-1733563800-1733563800@rotherhamwheelerscc.uk
SUMMARY:Sutton-on-Trent (74m)
DESCRIPTION:Could turn early for Tuxford
URL:https://rotherhamwheelerscc.uk/events/sutton-on-trent-74m-5/
LOCATION:Wickersley Library\,  286 Bawtry Road  \, Rotherham\, S66 1JJ\, United Kingdom
CATEGORIES:Club Ride
END:VEVENT
BEGIN:VEVENT
DTSTART;TZID=Europe/London:20241204T093000
DTEND;TZID=Europe/London:20241204T093000
DTSTAMP:20260423T160106
CREATED:20241105T111449Z
LAST-MODIFIED:20241105T111449Z
UID:2466-1733304600-1733304600@rotherhamwheelerscc.uk
SUMMARY:Pleasley Pit / Vale (60m)
DESCRIPTION:
URL:https://rotherhamwheelerscc.uk/events/pleasley-pit-vale-60m-13/
LOCATION:Wickersley Library\,  286 Bawtry Road  \, Rotherham\, S66 1JJ\, United Kingdom
CATEGORIES:Club Ride
END:VEVENT
BEGIN:VEVENT
DTSTART;TZID=Europe/London:20241202T093000
DTEND;TZID=Europe/London:20241202T093000
DTSTAMP:20260423T160106
CREATED:20241105T111449Z
LAST-MODIFIED:20241105T111449Z
UID:2465-1733131800-1733131800@rotherhamwheelerscc.uk
SUMMARY:Retford
DESCRIPTION:Greggs Monday ????
URL:https://rotherhamwheelerscc.uk/events/retford-63/
LOCATION:Wickersley Library\,  286 Bawtry Road  \, Rotherham\, S66 1JJ\, United Kingdom
CATEGORIES:Club Ride
END:VEVENT
BEGIN:VEVENT
DTSTART;TZID=Europe/London:20241130T093000
DTEND;TZID=Europe/London:20241130T093000
DTSTAMP:20260423T160106
CREATED:20241105T111449Z
LAST-MODIFIED:20241105T111449Z
UID:2464-1732959000-1732959000@rotherhamwheelerscc.uk
SUMMARY:Eakring (66m)
DESCRIPTION:
URL:https://rotherhamwheelerscc.uk/events/eakring-66m-9/
LOCATION:Wickersley Library\,  286 Bawtry Road  \, Rotherham\, S66 1JJ\, United Kingdom
CATEGORIES:Club Ride
END:VEVENT
BEGIN:VEVENT
DTSTART;TZID=Europe/London:20241127T093000
DTEND;TZID=Europe/London:20241127T093000
DTSTAMP:20260423T160106
CREATED:20241105T111434Z
LAST-MODIFIED:20241105T111434Z
UID:2463-1732699800-1732699800@rotherhamwheelerscc.uk
SUMMARY:Gainsborough (60m)
DESCRIPTION:
URL:https://rotherhamwheelerscc.uk/events/gainsborough-60m-13/
LOCATION:Wickersley Library\,  286 Bawtry Road  \, Rotherham\, S66 1JJ\, United Kingdom
CATEGORIES:Club Ride
END:VEVENT
BEGIN:VEVENT
DTSTART;TZID=Europe/London:20241125T093000
DTEND;TZID=Europe/London:20241125T093000
DTSTAMP:20260423T160106
CREATED:20241105T111434Z
LAST-MODIFIED:20241105T111434Z
UID:2462-1732527000-1732527000@rotherhamwheelerscc.uk
SUMMARY:Retford
DESCRIPTION:Greggs Monday ????
URL:https://rotherhamwheelerscc.uk/events/retford-62/
LOCATION:Wickersley Library\,  286 Bawtry Road  \, Rotherham\, S66 1JJ\, United Kingdom
CATEGORIES:Club Ride
END:VEVENT
BEGIN:VEVENT
DTSTART;TZID=Europe/London:20241123T093000
DTEND;TZID=Europe/London:20241123T093000
DTSTAMP:20260423T160106
CREATED:20241105T111434Z
LAST-MODIFIED:20241105T111434Z
UID:2461-1732354200-1732354200@rotherhamwheelerscc.uk
SUMMARY:Newmillerdam (62m)
DESCRIPTION:
URL:https://rotherhamwheelerscc.uk/events/newmillerdam-62m-6/
LOCATION:Wickersley Library\,  286 Bawtry Road  \, Rotherham\, S66 1JJ\, United Kingdom
CATEGORIES:Club Ride
END:VEVENT
BEGIN:VEVENT
DTSTART;TZID=Europe/London:20241120T093000
DTEND;TZID=Europe/London:20241120T093000
DTSTAMP:20260423T160106
CREATED:20241105T111434Z
LAST-MODIFIED:20241105T111434Z
UID:2460-1732095000-1732095000@rotherhamwheelerscc.uk
SUMMARY:Thoresby Park / Gamston
DESCRIPTION:
URL:https://rotherhamwheelerscc.uk/events/thoresby-park-gamston-12/
LOCATION:Wickersley Library\,  286 Bawtry Road  \, Rotherham\, S66 1JJ\, United Kingdom
CATEGORIES:Club Ride
END:VEVENT
BEGIN:VEVENT
DTSTART;TZID=Europe/London:20241118T093000
DTEND;TZID=Europe/London:20241118T093000
DTSTAMP:20260423T160106
CREATED:20241105T111433Z
LAST-MODIFIED:20241105T111433Z
UID:2459-1731922200-1731922200@rotherhamwheelerscc.uk
SUMMARY:Retford
DESCRIPTION:Greggs Monday ????
URL:https://rotherhamwheelerscc.uk/events/retford-61/
LOCATION:Wickersley Library\,  286 Bawtry Road  \, Rotherham\, S66 1JJ\, United Kingdom
CATEGORIES:Club Ride
END:VEVENT
BEGIN:VEVENT
DTSTART;TZID=Europe/London:20241116T093000
DTEND;TZID=Europe/London:20241116T093000
DTSTAMP:20260423T160106
CREATED:20241105T111432Z
LAST-MODIFIED:20241105T111432Z
UID:2458-1731749400-1731749400@rotherhamwheelerscc.uk
SUMMARY:Epworth (62m)
DESCRIPTION:
URL:https://rotherhamwheelerscc.uk/events/epworth-62m-7/
LOCATION:Wickersley Library\,  286 Bawtry Road  \, Rotherham\, S66 1JJ\, United Kingdom
CATEGORIES:Club Ride
END:VEVENT
BEGIN:VEVENT
DTSTART;TZID=Europe/London:20241113T093000
DTEND;TZID=Europe/London:20241113T093000
DTSTAMP:20260423T160106
CREATED:20241105T111431Z
LAST-MODIFIED:20241105T111431Z
UID:2457-1731490200-1731490200@rotherhamwheelerscc.uk
SUMMARY:Moss
DESCRIPTION:Bike paths return
URL:https://rotherhamwheelerscc.uk/events/moss-11/
LOCATION:Wickersley Library\,  286 Bawtry Road  \, Rotherham\, S66 1JJ\, United Kingdom
CATEGORIES:Club Ride
END:VEVENT
BEGIN:VEVENT
DTSTART;TZID=Europe/London:20241111T093000
DTEND;TZID=Europe/London:20241111T093000
DTSTAMP:20260423T160106
CREATED:20241105T111431Z
LAST-MODIFIED:20241105T111431Z
UID:2456-1731317400-1731317400@rotherhamwheelerscc.uk
SUMMARY:Retford
DESCRIPTION:Greggs Monday ????
URL:https://rotherhamwheelerscc.uk/events/retford-60/
LOCATION:Wickersley Library\,  286 Bawtry Road  \, Rotherham\, S66 1JJ\, United Kingdom
CATEGORIES:Club Ride
END:VEVENT
BEGIN:VEVENT
DTSTART;TZID=Europe/London:20241109T093000
DTEND;TZID=Europe/London:20241109T093000
DTSTAMP:20260423T160106
CREATED:20241105T111431Z
LAST-MODIFIED:20241105T111431Z
UID:2455-1731144600-1731144600@rotherhamwheelerscc.uk
SUMMARY:Tuxford (61m)
DESCRIPTION:Out via Clumber\, return via Retford
URL:https://rotherhamwheelerscc.uk/events/tuxford-61m-3/
LOCATION:Wickersley Library\,  286 Bawtry Road  \, Rotherham\, S66 1JJ\, United Kingdom
CATEGORIES:Club Ride
END:VEVENT
BEGIN:VEVENT
DTSTART;TZID=Europe/London:20241106T093000
DTEND;TZID=Europe/London:20241106T093000
DTSTAMP:20260423T160106
CREATED:20241105T111430Z
LAST-MODIFIED:20241105T111430Z
UID:2454-1730885400-1730885400@rotherhamwheelerscc.uk
SUMMARY:Pleasley Pit / Vale (60m)
DESCRIPTION:
URL:https://rotherhamwheelerscc.uk/events/pleasley-pit-vale-60m-12/
LOCATION:Wickersley Library\,  286 Bawtry Road  \, Rotherham\, S66 1JJ\, United Kingdom
CATEGORIES:Club Ride
END:VEVENT
BEGIN:VEVENT
DTSTART;TZID=Europe/London:20241104T093000
DTEND;TZID=Europe/London:20241104T093000
DTSTAMP:20260423T160106
CREATED:20240724T160554Z
LAST-MODIFIED:20240724T160554Z
UID:2442-1730712600-1730712600@rotherhamwheelerscc.uk
SUMMARY:Retford
DESCRIPTION:Greggs Monday ????
URL:https://rotherhamwheelerscc.uk/events/retford-59/
LOCATION:Wickersley Library\,  286 Bawtry Road  \, Rotherham\, S66 1JJ\, United Kingdom
CATEGORIES:Club Ride
END:VEVENT
BEGIN:VEVENT
DTSTART;TZID=Europe/London:20241102T093000
DTEND;TZID=Europe/London:20241102T093000
DTSTAMP:20260423T160106
CREATED:20240724T160553Z
LAST-MODIFIED:20240724T160553Z
UID:2441-1730539800-1730539800@rotherhamwheelerscc.uk
SUMMARY:Dunham Bridge (66m)
DESCRIPTION:Cafe stop at Church Laneham
URL:https://rotherhamwheelerscc.uk/events/dunham-bridge-66m-8/
LOCATION:Wickersley Library\,  286 Bawtry Road  \, Rotherham\, S66 1JJ\, United Kingdom
CATEGORIES:Club Ride
END:VEVENT
BEGIN:VEVENT
DTSTART;TZID=Europe/London:20241030T093000
DTEND;TZID=Europe/London:20241030T093000
DTSTAMP:20260423T160106
CREATED:20240724T160553Z
LAST-MODIFIED:20240724T160553Z
UID:2440-1730280600-1730280600@rotherhamwheelerscc.uk
SUMMARY:Clumber Park
DESCRIPTION:
URL:https://rotherhamwheelerscc.uk/events/clumber-park-14/
LOCATION:Wickersley Library\,  286 Bawtry Road  \, Rotherham\, S66 1JJ\, United Kingdom
CATEGORIES:Club Ride
END:VEVENT
BEGIN:VEVENT
DTSTART;TZID=Europe/London:20241028T093000
DTEND;TZID=Europe/London:20241028T093000
DTSTAMP:20260423T160106
CREATED:20240724T160538Z
LAST-MODIFIED:20240724T160538Z
UID:2439-1730107800-1730107800@rotherhamwheelerscc.uk
SUMMARY:Retford
DESCRIPTION:
URL:https://rotherhamwheelerscc.uk/events/retford-58/
LOCATION:Wickersley Library\,  286 Bawtry Road  \, Rotherham\, S66 1JJ\, United Kingdom
CATEGORIES:Club Ride
END:VEVENT
BEGIN:VEVENT
DTSTART;TZID=Europe/London:20241026T093000
DTEND;TZID=Europe/London:20241026T093000
DTSTAMP:20260423T160106
CREATED:20240724T160538Z
LAST-MODIFIED:20240724T160538Z
UID:2438-1729935000-1729935000@rotherhamwheelerscc.uk
SUMMARY:Epworth (62m)
DESCRIPTION:
URL:https://rotherhamwheelerscc.uk/events/epworth-62m-6/
LOCATION:Wickersley Library\,  286 Bawtry Road  \, Rotherham\, S66 1JJ\, United Kingdom
CATEGORIES:Club Ride
END:VEVENT
BEGIN:VEVENT
DTSTART;TZID=Europe/London:20241023T093000
DTEND;TZID=Europe/London:20241023T093000
DTSTAMP:20260423T160106
CREATED:20240724T160538Z
LAST-MODIFIED:20240724T160538Z
UID:2437-1729675800-1729675800@rotherhamwheelerscc.uk
SUMMARY:Thoresby Park / Gamston
DESCRIPTION:
URL:https://rotherhamwheelerscc.uk/events/thoresby-park-gamston-11/
LOCATION:Wickersley Library\,  286 Bawtry Road  \, Rotherham\, S66 1JJ\, United Kingdom
CATEGORIES:Club Ride
END:VEVENT
BEGIN:VEVENT
DTSTART;TZID=Europe/London:20241021T093000
DTEND;TZID=Europe/London:20241021T093000
DTSTAMP:20260423T160106
CREATED:20240724T160537Z
LAST-MODIFIED:20240724T160537Z
UID:2436-1729503000-1729503000@rotherhamwheelerscc.uk
SUMMARY:Retford
DESCRIPTION:
URL:https://rotherhamwheelerscc.uk/events/retford-57/
LOCATION:Wickersley Library\,  286 Bawtry Road  \, Rotherham\, S66 1JJ\, United Kingdom
CATEGORIES:Club Ride
END:VEVENT
BEGIN:VEVENT
DTSTART;TZID=Europe/London:20241019T093000
DTEND;TZID=Europe/London:20241019T093000
DTSTAMP:20260423T160106
CREATED:20240724T160537Z
LAST-MODIFIED:20240724T160537Z
UID:2435-1729330200-1729330200@rotherhamwheelerscc.uk
SUMMARY:Womersley (62m)
DESCRIPTION:
URL:https://rotherhamwheelerscc.uk/events/womersley-62m-7/
LOCATION:Wickersley Library\,  286 Bawtry Road  \, Rotherham\, S66 1JJ\, United Kingdom
CATEGORIES:Club Ride
END:VEVENT
BEGIN:VEVENT
DTSTART;TZID=Europe/London:20241016T093000
DTEND;TZID=Europe/London:20241016T093000
DTSTAMP:20260423T160106
CREATED:20240724T160524Z
LAST-MODIFIED:20240724T160524Z
UID:2434-1729071000-1729071000@rotherhamwheelerscc.uk
SUMMARY:Gainsborough (60m)
DESCRIPTION:
URL:https://rotherhamwheelerscc.uk/events/gainsborough-60m-12/
LOCATION:Wickersley Library\,  286 Bawtry Road  \, Rotherham\, S66 1JJ\, United Kingdom
CATEGORIES:Club Ride
END:VEVENT
BEGIN:VEVENT
DTSTART;TZID=Europe/London:20241014T093000
DTEND;TZID=Europe/London:20241014T093000
DTSTAMP:20260423T160106
CREATED:20240724T160523Z
LAST-MODIFIED:20240724T160523Z
UID:2433-1728898200-1728898200@rotherhamwheelerscc.uk
SUMMARY:Retford
DESCRIPTION:Greggs Monday ????
URL:https://rotherhamwheelerscc.uk/events/retford-56/
LOCATION:Wickersley Library\,  286 Bawtry Road  \, Rotherham\, S66 1JJ\, United Kingdom
CATEGORIES:Club Ride
END:VEVENT
BEGIN:VEVENT
DTSTART;TZID=Europe/London:20241012T093000
DTEND;TZID=Europe/London:20241012T093000
DTSTAMP:20260423T160106
CREATED:20240724T160523Z
LAST-MODIFIED:20240724T160523Z
UID:2432-1728725400-1728725400@rotherhamwheelerscc.uk
SUMMARY:Eakring (66m)
DESCRIPTION:Daffodil Café in Eakring
URL:https://rotherhamwheelerscc.uk/events/eakring-66m-8/
LOCATION:Wickersley Library\,  286 Bawtry Road  \, Rotherham\, S66 1JJ\, United Kingdom
CATEGORIES:Club Ride
END:VEVENT
BEGIN:VEVENT
DTSTART;TZID=Europe/London:20241009T093000
DTEND;TZID=Europe/London:20241009T093000
DTSTAMP:20260423T160106
CREATED:20240724T160523Z
LAST-MODIFIED:20240724T160523Z
UID:2431-1728466200-1728466200@rotherhamwheelerscc.uk
SUMMARY:Moss
DESCRIPTION:Bike paths return
URL:https://rotherhamwheelerscc.uk/events/moss-10/
LOCATION:Wickersley Library\,  286 Bawtry Road  \, Rotherham\, S66 1JJ\, United Kingdom
CATEGORIES:Club Ride
END:VEVENT
BEGIN:VEVENT
DTSTART;TZID=Europe/London:20241007T093000
DTEND;TZID=Europe/London:20241007T093000
DTSTAMP:20260423T160106
CREATED:20240724T160522Z
LAST-MODIFIED:20240724T160522Z
UID:2430-1728293400-1728293400@rotherhamwheelerscc.uk
SUMMARY:Retford
DESCRIPTION:Greggs Monday ????
URL:https://rotherhamwheelerscc.uk/events/retford-55/
LOCATION:Wickersley Library\,  286 Bawtry Road  \, Rotherham\, S66 1JJ\, United Kingdom
CATEGORIES:Club Ride
END:VEVENT
BEGIN:VEVENT
DTSTART;TZID=Europe/London:20241005T093000
DTEND;TZID=Europe/London:20241005T093000
DTSTAMP:20260423T160106
CREATED:20240724T160508Z
LAST-MODIFIED:20240724T160508Z
UID:2429-1728120600-1728120600@rotherhamwheelerscc.uk
SUMMARY:Epworth v2 (68m)
DESCRIPTION:
URL:https://rotherhamwheelerscc.uk/events/epworth-v2-68m-3/
LOCATION:Wickersley Library\,  286 Bawtry Road  \, Rotherham\, S66 1JJ\, United Kingdom
CATEGORIES:Club Ride
END:VEVENT
BEGIN:VEVENT
DTSTART;TZID=Europe/London:20241002T093000
DTEND;TZID=Europe/London:20241002T093000
DTSTAMP:20260423T160106
CREATED:20240724T160508Z
LAST-MODIFIED:20240724T160508Z
UID:2428-1727861400-1727861400@rotherhamwheelerscc.uk
SUMMARY:Clumber Park
DESCRIPTION:
URL:https://rotherhamwheelerscc.uk/events/clumber-park-13/
LOCATION:Wickersley Library\,  286 Bawtry Road  \, Rotherham\, S66 1JJ\, United Kingdom
CATEGORIES:Club Ride
END:VEVENT
BEGIN:VEVENT
DTSTART;TZID=Europe/London:20240930T093000
DTEND;TZID=Europe/London:20240930T093000
DTSTAMP:20260423T160106
CREATED:20240724T160508Z
LAST-MODIFIED:20240724T160508Z
UID:2427-1727688600-1727688600@rotherhamwheelerscc.uk
SUMMARY:Retford
DESCRIPTION:Greggs Monday ????
URL:https://rotherhamwheelerscc.uk/events/retford-54/
LOCATION:Wickersley Library\,  286 Bawtry Road  \, Rotherham\, S66 1JJ\, United Kingdom
CATEGORIES:Club Ride
END:VEVENT
END:VCALENDAR