BEGIN:VCALENDAR
VERSION:2.0
PRODID:-//Rotherham Wheelers CC - ECPv6.15.20//NONSGML v1.0//EN
CALSCALE:GREGORIAN
METHOD:PUBLISH
X-ORIGINAL-URL:https://rotherhamwheelerscc.uk
X-WR-CALDESC:Events for Rotherham Wheelers CC
REFRESH-INTERVAL;VALUE=DURATION:PT1H
X-Robots-Tag:noindex
X-PUBLISHED-TTL:PT1H
BEGIN:VTIMEZONE
TZID:Europe/London
BEGIN:DAYLIGHT
TZOFFSETFROM:+0000
TZOFFSETTO:+0100
TZNAME:BST
DTSTART:20230326T010000
END:DAYLIGHT
BEGIN:STANDARD
TZOFFSETFROM:+0100
TZOFFSETTO:+0000
TZNAME:GMT
DTSTART:20231029T010000
END:STANDARD
BEGIN:DAYLIGHT
TZOFFSETFROM:+0000
TZOFFSETTO:+0100
TZNAME:BST
DTSTART:20240331T010000
END:DAYLIGHT
BEGIN:STANDARD
TZOFFSETFROM:+0100
TZOFFSETTO:+0000
TZNAME:GMT
DTSTART:20241027T010000
END:STANDARD
BEGIN:DAYLIGHT
TZOFFSETFROM:+0000
TZOFFSETTO:+0100
TZNAME:BST
DTSTART:20250330T010000
END:DAYLIGHT
BEGIN:STANDARD
TZOFFSETFROM:+0100
TZOFFSETTO:+0000
TZNAME:GMT
DTSTART:20251026T010000
END:STANDARD
END:VTIMEZONE
BEGIN:VEVENT
DTSTART;TZID=Europe/London:20240812T093000
DTEND;TZID=Europe/London:20240812T093000
DTSTAMP:20260423T234454
CREATED:20240724T160407Z
LAST-MODIFIED:20240724T160407Z
UID:2406-1723455000-1723455000@rotherhamwheelerscc.uk
SUMMARY:Retford
DESCRIPTION:Greggs Monday ????
URL:https://rotherhamwheelerscc.uk/events/retford-47/
LOCATION:Wickersley Library\,  286 Bawtry Road  \, Rotherham\, S66 1JJ\, United Kingdom
CATEGORIES:Club Ride
END:VEVENT
BEGIN:VEVENT
DTSTART;TZID=Europe/London:20240810T093000
DTEND;TZID=Europe/London:20240810T093000
DTSTAMP:20260423T234454
CREATED:20240724T160407Z
LAST-MODIFIED:20240724T160407Z
UID:2405-1723282200-1723282200@rotherhamwheelerscc.uk
SUMMARY:Laughton Forest /Gainsborough (77m)
DESCRIPTION:
URL:https://rotherhamwheelerscc.uk/events/laughton-forest-gainsborough-77m-2/
LOCATION:Wickersley Library\,  286 Bawtry Road  \, Rotherham\, S66 1JJ\, United Kingdom
CATEGORIES:Club Ride
END:VEVENT
BEGIN:VEVENT
DTSTART;TZID=Europe/London:20240807T093000
DTEND;TZID=Europe/London:20240807T093000
DTSTAMP:20260423T234454
CREATED:20240724T160403Z
LAST-MODIFIED:20240724T160403Z
UID:2404-1723023000-1723023000@rotherhamwheelerscc.uk
SUMMARY:Pleasley Pit / Vale (60m)
DESCRIPTION:
URL:https://rotherhamwheelerscc.uk/events/pleasley-pit-vale-60m-9/
LOCATION:Wickersley Library\,  286 Bawtry Road  \, Rotherham\, S66 1JJ\, United Kingdom
CATEGORIES:Club Ride
END:VEVENT
BEGIN:VEVENT
DTSTART;TZID=Europe/London:20240805T093000
DTEND;TZID=Europe/London:20240805T093000
DTSTAMP:20260423T234454
CREATED:20240724T160402Z
LAST-MODIFIED:20240724T160402Z
UID:2403-1722850200-1722850200@rotherhamwheelerscc.uk
SUMMARY:Retford
DESCRIPTION:Greggs Monday ????
URL:https://rotherhamwheelerscc.uk/events/retford-46/
LOCATION:Wickersley Library\,  286 Bawtry Road  \, Rotherham\, S66 1JJ\, United Kingdom
CATEGORIES:Club Ride
END:VEVENT
BEGIN:VEVENT
DTSTART;TZID=Europe/London:20240803T093000
DTEND;TZID=Europe/London:20240803T093000
DTSTAMP:20260423T234454
CREATED:20240724T160402Z
LAST-MODIFIED:20240724T160402Z
UID:2402-1722677400-1722677400@rotherhamwheelerscc.uk
SUMMARY:Dunham Bridge (66m)
DESCRIPTION:Cafe stop at Church Laneham
URL:https://rotherhamwheelerscc.uk/events/dunham-bridge-66m-6/
LOCATION:Wickersley Library\,  286 Bawtry Road  \, Rotherham\, S66 1JJ\, United Kingdom
CATEGORIES:Club Ride
END:VEVENT
BEGIN:VEVENT
DTSTART;TZID=Europe/London:20240731T093000
DTEND;TZID=Europe/London:20240731T093000
DTSTAMP:20260423T234454
CREATED:20240724T160402Z
LAST-MODIFIED:20240724T160402Z
UID:2401-1722418200-1722418200@rotherhamwheelerscc.uk
SUMMARY:Clumber Park
DESCRIPTION:
URL:https://rotherhamwheelerscc.uk/events/clumber-park-12/
LOCATION:Wickersley Library\,  286 Bawtry Road  \, Rotherham\, S66 1JJ\, United Kingdom
CATEGORIES:Club Ride
END:VEVENT
BEGIN:VEVENT
DTSTART;TZID=Europe/London:20240729T093000
DTEND;TZID=Europe/London:20240729T093000
DTSTAMP:20260423T234454
CREATED:20240724T160401Z
LAST-MODIFIED:20240724T160401Z
UID:2400-1722245400-1722245400@rotherhamwheelerscc.uk
SUMMARY:Retford
DESCRIPTION:Greggs Monday ????
URL:https://rotherhamwheelerscc.uk/events/retford-45/
LOCATION:Wickersley Library\,  286 Bawtry Road  \, Rotherham\, S66 1JJ\, United Kingdom
CATEGORIES:Club Ride
END:VEVENT
BEGIN:VEVENT
DTSTART;TZID=Europe/London:20240727T093000
DTEND;TZID=Europe/London:20240727T093000
DTSTAMP:20260423T234454
CREATED:20240407T091255Z
LAST-MODIFIED:20240719T121851Z
UID:2371-1722072600-1722072600@rotherhamwheelerscc.uk
SUMMARY:Southwell (80m)
DESCRIPTION:
URL:https://rotherhamwheelerscc.uk/events/humber-bridge-120m/
LOCATION:Wickersley Library\,  286 Bawtry Road  \, Rotherham\, S66 1JJ\, United Kingdom
CATEGORIES:Club Ride
END:VEVENT
BEGIN:VEVENT
DTSTART;TZID=Europe/London:20240724T093000
DTEND;TZID=Europe/London:20240724T093000
DTSTAMP:20260423T234454
CREATED:20240407T091255Z
LAST-MODIFIED:20240407T091255Z
UID:2370-1721813400-1721813400@rotherhamwheelerscc.uk
SUMMARY:Thoresby Park / Gamston
DESCRIPTION:
URL:https://rotherhamwheelerscc.uk/events/thoresby-park-gamston-8/
LOCATION:Wickersley Library\,  286 Bawtry Road  \, Rotherham\, S66 1JJ\, United Kingdom
CATEGORIES:Club Ride
END:VEVENT
BEGIN:VEVENT
DTSTART;TZID=Europe/London:20240722T093000
DTEND;TZID=Europe/London:20240722T093000
DTSTAMP:20260423T234454
CREATED:20240407T091255Z
LAST-MODIFIED:20240407T091255Z
UID:2369-1721640600-1721640600@rotherhamwheelerscc.uk
SUMMARY:Retford
DESCRIPTION:Greggs Monday ????
URL:https://rotherhamwheelerscc.uk/events/retford-44/
LOCATION:Wickersley Library\,  286 Bawtry Road  \, Rotherham\, S66 1JJ\, United Kingdom
CATEGORIES:Club Ride
END:VEVENT
BEGIN:VEVENT
DTSTART;TZID=Europe/London:20240720T093000
DTEND;TZID=Europe/London:20240720T093000
DTSTAMP:20260423T234454
CREATED:20240407T091240Z
LAST-MODIFIED:20240407T091240Z
UID:2368-1721467800-1721467800@rotherhamwheelerscc.uk
SUMMARY:Holmfirth (64m) (and Snake Pass?)
DESCRIPTION:80m if climb Holme Moss + Snake Pass
URL:https://rotherhamwheelerscc.uk/events/holmfirth-64m-and-snake-pass/
LOCATION:Wickersley Library\,  286 Bawtry Road  \, Rotherham\, S66 1JJ\, United Kingdom
CATEGORIES:Club Ride
END:VEVENT
BEGIN:VEVENT
DTSTART;TZID=Europe/London:20240717T093000
DTEND;TZID=Europe/London:20240717T093000
DTSTAMP:20260423T234454
CREATED:20240407T091240Z
LAST-MODIFIED:20240407T091240Z
UID:2367-1721208600-1721208600@rotherhamwheelerscc.uk
SUMMARY:Moss
DESCRIPTION:Bike paths return
URL:https://rotherhamwheelerscc.uk/events/moss-8/
LOCATION:Wickersley Library\,  286 Bawtry Road  \, Rotherham\, S66 1JJ\, United Kingdom
CATEGORIES:Club Ride
END:VEVENT
BEGIN:VEVENT
DTSTART;TZID=Europe/London:20240715T093000
DTEND;TZID=Europe/London:20240715T093000
DTSTAMP:20260423T234454
CREATED:20240407T091240Z
LAST-MODIFIED:20240407T091240Z
UID:2366-1721035800-1721035800@rotherhamwheelerscc.uk
SUMMARY:Retford
DESCRIPTION:Greggs Monday ????
URL:https://rotherhamwheelerscc.uk/events/retford-43/
LOCATION:Wickersley Library\,  286 Bawtry Road  \, Rotherham\, S66 1JJ\, United Kingdom
CATEGORIES:Club Ride
END:VEVENT
BEGIN:VEVENT
DTSTART;TZID=Europe/London:20240713T093000
DTEND;TZID=Europe/London:20240713T093000
DTSTAMP:20260423T234454
CREATED:20240407T091240Z
LAST-MODIFIED:20240407T091240Z
UID:2365-1720863000-1720863000@rotherhamwheelerscc.uk
SUMMARY:Southwell (80m)
DESCRIPTION:
URL:https://rotherhamwheelerscc.uk/events/southwell-80m-4/
LOCATION:Wickersley Library\,  286 Bawtry Road  \, Rotherham\, S66 1JJ\, United Kingdom
CATEGORIES:Club Ride
END:VEVENT
BEGIN:VEVENT
DTSTART;TZID=Europe/London:20240710T093000
DTEND;TZID=Europe/London:20240710T093000
DTSTAMP:20260423T234454
CREATED:20240407T091240Z
LAST-MODIFIED:20240407T091240Z
UID:2364-1720603800-1720603800@rotherhamwheelerscc.uk
SUMMARY:Pleasley Pit / Vale (60m)
DESCRIPTION:
URL:https://rotherhamwheelerscc.uk/events/pleasley-pit-vale-60m-8/
LOCATION:Wickersley Library\,  286 Bawtry Road  \, Rotherham\, S66 1JJ\, United Kingdom
CATEGORIES:Club Ride
END:VEVENT
BEGIN:VEVENT
DTSTART;TZID=Europe/London:20240708T093000
DTEND;TZID=Europe/London:20240708T093000
DTSTAMP:20260423T234454
CREATED:20240407T091226Z
LAST-MODIFIED:20240407T091226Z
UID:2363-1720431000-1720431000@rotherhamwheelerscc.uk
SUMMARY:Retford
DESCRIPTION:Greggs Monday ????
URL:https://rotherhamwheelerscc.uk/events/retford-42/
LOCATION:Wickersley Library\,  286 Bawtry Road  \, Rotherham\, S66 1JJ\, United Kingdom
CATEGORIES:Club Ride
END:VEVENT
BEGIN:VEVENT
DTSTART;TZID=Europe/London:20240706T093000
DTEND;TZID=Europe/London:20240706T093000
DTSTAMP:20260423T234454
CREATED:20240407T091226Z
LAST-MODIFIED:20240407T091226Z
UID:2362-1720258200-1720258200@rotherhamwheelerscc.uk
SUMMARY:Womersley (62m)
DESCRIPTION:
URL:https://rotherhamwheelerscc.uk/events/womersley-62m-5/
LOCATION:Wickersley Library\,  286 Bawtry Road  \, Rotherham\, S66 1JJ\, United Kingdom
CATEGORIES:Club Ride
END:VEVENT
BEGIN:VEVENT
DTSTART;TZID=Europe/London:20240703T093000
DTEND;TZID=Europe/London:20240703T093000
DTSTAMP:20260423T234454
CREATED:20240407T091226Z
LAST-MODIFIED:20240407T091226Z
UID:2361-1719999000-1719999000@rotherhamwheelerscc.uk
SUMMARY:Tuxford (61m)
DESCRIPTION:Out via Clumber\, return via Retford
URL:https://rotherhamwheelerscc.uk/events/tuxford-61m-2/
LOCATION:Wickersley Library\,  286 Bawtry Road  \, Rotherham\, S66 1JJ\, United Kingdom
CATEGORIES:Club Ride
END:VEVENT
BEGIN:VEVENT
DTSTART;TZID=Europe/London:20240701T093000
DTEND;TZID=Europe/London:20240701T093000
DTSTAMP:20260423T234454
CREATED:20240407T091226Z
LAST-MODIFIED:20240407T091226Z
UID:2360-1719826200-1719826200@rotherhamwheelerscc.uk
SUMMARY:Retford
DESCRIPTION:Greggs Monday ????
URL:https://rotherhamwheelerscc.uk/events/retford-41/
LOCATION:Wickersley Library\,  286 Bawtry Road  \, Rotherham\, S66 1JJ\, United Kingdom
CATEGORIES:Club Ride
END:VEVENT
BEGIN:VEVENT
DTSTART;TZID=Europe/London:20240629T093000
DTEND;TZID=Europe/London:20240629T093000
DTSTAMP:20260423T234454
CREATED:20240407T091225Z
LAST-MODIFIED:20240407T091225Z
UID:2359-1719653400-1719653400@rotherhamwheelerscc.uk
SUMMARY:Eakring (66m)
DESCRIPTION:
URL:https://rotherhamwheelerscc.uk/events/eakring-66m-4/
LOCATION:Wickersley Library\,  286 Bawtry Road  \, Rotherham\, S66 1JJ\, United Kingdom
CATEGORIES:Club Ride
END:VEVENT
BEGIN:VEVENT
DTSTART;TZID=Europe/London:20240626T093000
DTEND;TZID=Europe/London:20240626T093000
DTSTAMP:20260423T234454
CREATED:20240407T091210Z
LAST-MODIFIED:20240407T091210Z
UID:2358-1719394200-1719394200@rotherhamwheelerscc.uk
SUMMARY:Gainsborough (60m)
DESCRIPTION:
URL:https://rotherhamwheelerscc.uk/events/gainsborough-60m-9/
LOCATION:Wickersley Library\,  286 Bawtry Road  \, Rotherham\, S66 1JJ\, United Kingdom
CATEGORIES:Club Ride
END:VEVENT
BEGIN:VEVENT
DTSTART;TZID=Europe/London:20240624T093000
DTEND;TZID=Europe/London:20240624T093000
DTSTAMP:20260423T234454
CREATED:20240407T091210Z
LAST-MODIFIED:20240407T091210Z
UID:2357-1719221400-1719221400@rotherhamwheelerscc.uk
SUMMARY:Retford
DESCRIPTION:Greggs Monday ????
URL:https://rotherhamwheelerscc.uk/events/retford-40/
LOCATION:Wickersley Library\,  286 Bawtry Road  \, Rotherham\, S66 1JJ\, United Kingdom
CATEGORIES:Club Ride
END:VEVENT
BEGIN:VEVENT
DTSTART;TZID=Europe/London:20240622T093000
DTEND;TZID=Europe/London:20240622T093000
DTSTAMP:20260423T234454
CREATED:20240407T091210Z
LAST-MODIFIED:20240407T091210Z
UID:2356-1719048600-1719048600@rotherhamwheelerscc.uk
SUMMARY:Newmillerdam (62m)
DESCRIPTION:Newmillerdam (62m)
URL:https://rotherhamwheelerscc.uk/events/newmillerdam-62m-4/
LOCATION:Wickersley Library\,  286 Bawtry Road  \, Rotherham\, S66 1JJ\, United Kingdom
CATEGORIES:Club Ride
END:VEVENT
BEGIN:VEVENT
DTSTART;TZID=Europe/London:20240619T093000
DTEND;TZID=Europe/London:20240619T093000
DTSTAMP:20260423T234454
CREATED:20240407T091210Z
LAST-MODIFIED:20240407T091210Z
UID:2355-1718789400-1718789400@rotherhamwheelerscc.uk
SUMMARY:Clumber Park
DESCRIPTION:
URL:https://rotherhamwheelerscc.uk/events/clumber-park-11/
LOCATION:Wickersley Library\,  286 Bawtry Road  \, Rotherham\, S66 1JJ\, United Kingdom
CATEGORIES:Club Ride
END:VEVENT
BEGIN:VEVENT
DTSTART;TZID=Europe/London:20240617T093000
DTEND;TZID=Europe/London:20240617T093000
DTSTAMP:20260423T234454
CREATED:20240407T091210Z
LAST-MODIFIED:20240407T091210Z
UID:2354-1718616600-1718616600@rotherhamwheelerscc.uk
SUMMARY:Retford
DESCRIPTION:Greggs Monday ????
URL:https://rotherhamwheelerscc.uk/events/retford-39/
LOCATION:Wickersley Library\,  286 Bawtry Road  \, Rotherham\, S66 1JJ\, United Kingdom
CATEGORIES:Club Ride
END:VEVENT
BEGIN:VEVENT
DTSTART;TZID=Europe/London:20240615T100000
DTEND;TZID=Europe/London:20240615T100000
DTSTAMP:20260423T234454
CREATED:20240407T091155Z
LAST-MODIFIED:20240530T133951Z
UID:2353-1718445600-1718445600@rotherhamwheelerscc.uk
SUMMARY:Blue Plaque Ride
DESCRIPTION:Rotherham District Civic Society is one of many similar groups across the country which ‘encourage high standards of architecture and planning’ and ‘encourage the preservation\, development and improvement of features of general public amenity or historic interest’.  \nIn addition to advising and petitioning the local authority on such issues\, RDCS are local custodians of the Blue Plaque scheme which was established in London in 1866. \nRotherham’s first Blue Plaque was unveiled in 2012 since which time a further 26 plaques have been unveiled commemorating distinguished Rotherham residents and historic locations across the Borough.  Additionally\, RDCS have identified a further 81 buildings or structures which are of architectural or historic interest. \nOn Saturday 15 June RDCS will celebrate National Civic Day with a programme of events celebrating how people collaborate and interact with the place where they live.  The day will include a poetry recital by local poet Ian McMillan\, art exhibition\, guided walks around the town centre and vintage bus rides. \nRotherham Wheelers will support the event by launching the Rotherham Heritage Cycle Trail\, a 50-mile cycle ride around the Borough starting and finishing at Clifton Park Museum and incorporating many blue plaque locations and buildings of architectural or historic interest.  Members of other Rotherham area cycle clubs have been invited to join us on the ride which will be run as our Saturday club ride. \nThe ride is non-competitive! \nRide Details: \nMeet location – rear of Clifton Park Museum\, Clifton Lane\, Rotherham \nMeet time – 10:00 Saturday 15 June 2024 \nStart time – 10:30 Saturday 15 June 2024 \nDistance – 49.3 miles \nAscent – 2457 feet \nPlotaroute ref – RDCS V4 2565062 https://www.plotaroute.com/route/2565062 \nCafe stop – RSPB Old Moor \nFinish – Clifton Park Museum \nIt is hoped that as many members as possible can support this event and celebration of our town and its people’s achievements. \nRiders are requested to wear club kit.
URL:https://rotherhamwheelerscc.uk/events/blue-plaque-ride/
LOCATION:Clifton Park Museum\, Clifton Ln\, Rotherham\, S65 2AA\, United Kingdom
CATEGORIES:Club Ride
END:VEVENT
BEGIN:VEVENT
DTSTART;TZID=Europe/London:20240612T093000
DTEND;TZID=Europe/London:20240612T093000
DTSTAMP:20260423T234454
CREATED:20240407T091155Z
LAST-MODIFIED:20240407T091155Z
UID:2352-1718184600-1718184600@rotherhamwheelerscc.uk
SUMMARY:Thoresby Park / Gamston
DESCRIPTION:
URL:https://rotherhamwheelerscc.uk/events/thoresby-park-gamston-7/
LOCATION:Wickersley Library\,  286 Bawtry Road  \, Rotherham\, S66 1JJ\, United Kingdom
CATEGORIES:Club Ride
END:VEVENT
BEGIN:VEVENT
DTSTART;TZID=Europe/London:20240610T093000
DTEND;TZID=Europe/London:20240610T093000
DTSTAMP:20260423T234454
CREATED:20240407T091155Z
LAST-MODIFIED:20240407T091155Z
UID:2351-1718011800-1718011800@rotherhamwheelerscc.uk
SUMMARY:Retford
DESCRIPTION:Greggs Monday ????
URL:https://rotherhamwheelerscc.uk/events/retford-38/
LOCATION:Wickersley Library\,  286 Bawtry Road  \, Rotherham\, S66 1JJ\, United Kingdom
CATEGORIES:Club Ride
END:VEVENT
BEGIN:VEVENT
DTSTART;TZID=Europe/London:20240608T093000
DTEND;TZID=Europe/London:20240608T093000
DTSTAMP:20260423T234454
CREATED:20240407T091155Z
LAST-MODIFIED:20240407T091155Z
UID:2350-1717839000-1717839000@rotherhamwheelerscc.uk
SUMMARY:Lincoln (95m)
DESCRIPTION:9.00 am Start – to be confirmed
URL:https://rotherhamwheelerscc.uk/events/lincoln-95m/
LOCATION:Wickersley Library\,  286 Bawtry Road  \, Rotherham\, S66 1JJ\, United Kingdom
CATEGORIES:Club Ride
END:VEVENT
BEGIN:VEVENT
DTSTART;TZID=Europe/London:20240605T093000
DTEND;TZID=Europe/London:20240605T093000
DTSTAMP:20260423T234454
CREATED:20240407T091155Z
LAST-MODIFIED:20240407T091155Z
UID:2349-1717579800-1717579800@rotherhamwheelerscc.uk
SUMMARY:Moss
DESCRIPTION:Bike paths return
URL:https://rotherhamwheelerscc.uk/events/moss-4/
LOCATION:Wickersley Library\,  286 Bawtry Road  \, Rotherham\, S66 1JJ\, United Kingdom
CATEGORIES:Club Ride
END:VEVENT
END:VCALENDAR