BEGIN:VCALENDAR
VERSION:2.0
PRODID:-//Rotherham Wheelers CC - ECPv6.15.20//NONSGML v1.0//EN
CALSCALE:GREGORIAN
METHOD:PUBLISH
X-ORIGINAL-URL:https://rotherhamwheelerscc.uk
X-WR-CALDESC:Events for Rotherham Wheelers CC
REFRESH-INTERVAL;VALUE=DURATION:PT1H
X-Robots-Tag:noindex
X-PUBLISHED-TTL:PT1H
BEGIN:VTIMEZONE
TZID:Europe/London
BEGIN:DAYLIGHT
TZOFFSETFROM:+0000
TZOFFSETTO:+0100
TZNAME:BST
DTSTART:20230326T010000
END:DAYLIGHT
BEGIN:STANDARD
TZOFFSETFROM:+0100
TZOFFSETTO:+0000
TZNAME:GMT
DTSTART:20231029T010000
END:STANDARD
BEGIN:DAYLIGHT
TZOFFSETFROM:+0000
TZOFFSETTO:+0100
TZNAME:BST
DTSTART:20240331T010000
END:DAYLIGHT
BEGIN:STANDARD
TZOFFSETFROM:+0100
TZOFFSETTO:+0000
TZNAME:GMT
DTSTART:20241027T010000
END:STANDARD
BEGIN:DAYLIGHT
TZOFFSETFROM:+0000
TZOFFSETTO:+0100
TZNAME:BST
DTSTART:20250330T010000
END:DAYLIGHT
BEGIN:STANDARD
TZOFFSETFROM:+0100
TZOFFSETTO:+0000
TZNAME:GMT
DTSTART:20251026T010000
END:STANDARD
END:VTIMEZONE
BEGIN:VEVENT
DTSTART;TZID=Europe/London:20241021T093000
DTEND;TZID=Europe/London:20241021T093000
DTSTAMP:20260423T191012
CREATED:20240724T160537Z
LAST-MODIFIED:20240724T160537Z
UID:2436-1729503000-1729503000@rotherhamwheelerscc.uk
SUMMARY:Retford
DESCRIPTION:
URL:https://rotherhamwheelerscc.uk/events/retford-57/
LOCATION:Wickersley Library\,  286 Bawtry Road  \, Rotherham\, S66 1JJ\, United Kingdom
CATEGORIES:Club Ride
END:VEVENT
BEGIN:VEVENT
DTSTART;TZID=Europe/London:20241019T093000
DTEND;TZID=Europe/London:20241019T093000
DTSTAMP:20260423T191012
CREATED:20240724T160537Z
LAST-MODIFIED:20240724T160537Z
UID:2435-1729330200-1729330200@rotherhamwheelerscc.uk
SUMMARY:Womersley (62m)
DESCRIPTION:
URL:https://rotherhamwheelerscc.uk/events/womersley-62m-7/
LOCATION:Wickersley Library\,  286 Bawtry Road  \, Rotherham\, S66 1JJ\, United Kingdom
CATEGORIES:Club Ride
END:VEVENT
BEGIN:VEVENT
DTSTART;TZID=Europe/London:20241016T093000
DTEND;TZID=Europe/London:20241016T093000
DTSTAMP:20260423T191012
CREATED:20240724T160524Z
LAST-MODIFIED:20240724T160524Z
UID:2434-1729071000-1729071000@rotherhamwheelerscc.uk
SUMMARY:Gainsborough (60m)
DESCRIPTION:
URL:https://rotherhamwheelerscc.uk/events/gainsborough-60m-12/
LOCATION:Wickersley Library\,  286 Bawtry Road  \, Rotherham\, S66 1JJ\, United Kingdom
CATEGORIES:Club Ride
END:VEVENT
BEGIN:VEVENT
DTSTART;TZID=Europe/London:20241014T093000
DTEND;TZID=Europe/London:20241014T093000
DTSTAMP:20260423T191012
CREATED:20240724T160523Z
LAST-MODIFIED:20240724T160523Z
UID:2433-1728898200-1728898200@rotherhamwheelerscc.uk
SUMMARY:Retford
DESCRIPTION:Greggs Monday ????
URL:https://rotherhamwheelerscc.uk/events/retford-56/
LOCATION:Wickersley Library\,  286 Bawtry Road  \, Rotherham\, S66 1JJ\, United Kingdom
CATEGORIES:Club Ride
END:VEVENT
BEGIN:VEVENT
DTSTART;TZID=Europe/London:20241012T093000
DTEND;TZID=Europe/London:20241012T093000
DTSTAMP:20260423T191012
CREATED:20240724T160523Z
LAST-MODIFIED:20240724T160523Z
UID:2432-1728725400-1728725400@rotherhamwheelerscc.uk
SUMMARY:Eakring (66m)
DESCRIPTION:Daffodil Café in Eakring
URL:https://rotherhamwheelerscc.uk/events/eakring-66m-8/
LOCATION:Wickersley Library\,  286 Bawtry Road  \, Rotherham\, S66 1JJ\, United Kingdom
CATEGORIES:Club Ride
END:VEVENT
BEGIN:VEVENT
DTSTART;TZID=Europe/London:20241009T093000
DTEND;TZID=Europe/London:20241009T093000
DTSTAMP:20260423T191012
CREATED:20240724T160523Z
LAST-MODIFIED:20240724T160523Z
UID:2431-1728466200-1728466200@rotherhamwheelerscc.uk
SUMMARY:Moss
DESCRIPTION:Bike paths return
URL:https://rotherhamwheelerscc.uk/events/moss-10/
LOCATION:Wickersley Library\,  286 Bawtry Road  \, Rotherham\, S66 1JJ\, United Kingdom
CATEGORIES:Club Ride
END:VEVENT
BEGIN:VEVENT
DTSTART;TZID=Europe/London:20241007T093000
DTEND;TZID=Europe/London:20241007T093000
DTSTAMP:20260423T191012
CREATED:20240724T160522Z
LAST-MODIFIED:20240724T160522Z
UID:2430-1728293400-1728293400@rotherhamwheelerscc.uk
SUMMARY:Retford
DESCRIPTION:Greggs Monday ????
URL:https://rotherhamwheelerscc.uk/events/retford-55/
LOCATION:Wickersley Library\,  286 Bawtry Road  \, Rotherham\, S66 1JJ\, United Kingdom
CATEGORIES:Club Ride
END:VEVENT
BEGIN:VEVENT
DTSTART;TZID=Europe/London:20241005T093000
DTEND;TZID=Europe/London:20241005T093000
DTSTAMP:20260423T191012
CREATED:20240724T160508Z
LAST-MODIFIED:20240724T160508Z
UID:2429-1728120600-1728120600@rotherhamwheelerscc.uk
SUMMARY:Epworth v2 (68m)
DESCRIPTION:
URL:https://rotherhamwheelerscc.uk/events/epworth-v2-68m-3/
LOCATION:Wickersley Library\,  286 Bawtry Road  \, Rotherham\, S66 1JJ\, United Kingdom
CATEGORIES:Club Ride
END:VEVENT
BEGIN:VEVENT
DTSTART;TZID=Europe/London:20241002T093000
DTEND;TZID=Europe/London:20241002T093000
DTSTAMP:20260423T191012
CREATED:20240724T160508Z
LAST-MODIFIED:20240724T160508Z
UID:2428-1727861400-1727861400@rotherhamwheelerscc.uk
SUMMARY:Clumber Park
DESCRIPTION:
URL:https://rotherhamwheelerscc.uk/events/clumber-park-13/
LOCATION:Wickersley Library\,  286 Bawtry Road  \, Rotherham\, S66 1JJ\, United Kingdom
CATEGORIES:Club Ride
END:VEVENT
BEGIN:VEVENT
DTSTART;TZID=Europe/London:20240930T093000
DTEND;TZID=Europe/London:20240930T093000
DTSTAMP:20260423T191012
CREATED:20240724T160508Z
LAST-MODIFIED:20240724T160508Z
UID:2427-1727688600-1727688600@rotherhamwheelerscc.uk
SUMMARY:Retford
DESCRIPTION:Greggs Monday ????
URL:https://rotherhamwheelerscc.uk/events/retford-54/
LOCATION:Wickersley Library\,  286 Bawtry Road  \, Rotherham\, S66 1JJ\, United Kingdom
CATEGORIES:Club Ride
END:VEVENT
BEGIN:VEVENT
DTSTART;TZID=Europe/London:20240928T093000
DTEND;TZID=Europe/London:20240928T093000
DTSTAMP:20260423T191012
CREATED:20240724T160507Z
LAST-MODIFIED:20240724T160507Z
UID:2426-1727515800-1727515800@rotherhamwheelerscc.uk
SUMMARY:Snaith (62m)
DESCRIPTION:
URL:https://rotherhamwheelerscc.uk/events/snaith-62m-4/
LOCATION:Wickersley Library\,  286 Bawtry Road  \, Rotherham\, S66 1JJ\, United Kingdom
CATEGORIES:Club Ride
END:VEVENT
BEGIN:VEVENT
DTSTART;TZID=Europe/London:20240925T093000
DTEND;TZID=Europe/London:20240925T093000
DTSTAMP:20260423T191012
CREATED:20240724T160507Z
LAST-MODIFIED:20240724T160507Z
UID:2425-1727256600-1727256600@rotherhamwheelerscc.uk
SUMMARY:Pleasley Pit / Vale (60m)
DESCRIPTION:
URL:https://rotherhamwheelerscc.uk/events/pleasley-pit-vale-60m-11/
LOCATION:Wickersley Library\,  286 Bawtry Road  \, Rotherham\, S66 1JJ\, United Kingdom
CATEGORIES:Club Ride
END:VEVENT
BEGIN:VEVENT
DTSTART;TZID=Europe/London:20240923T093000
DTEND;TZID=Europe/London:20240923T093000
DTSTAMP:20260423T191012
CREATED:20240724T160454Z
LAST-MODIFIED:20240724T160454Z
UID:2424-1727083800-1727083800@rotherhamwheelerscc.uk
SUMMARY:Retford
DESCRIPTION:Greggs Monday ????
URL:https://rotherhamwheelerscc.uk/events/retford-53/
LOCATION:Wickersley Library\,  286 Bawtry Road  \, Rotherham\, S66 1JJ\, United Kingdom
CATEGORIES:Club Ride
END:VEVENT
BEGIN:VEVENT
DTSTART;TZID=Europe/London:20240921T093000
DTEND;TZID=Europe/London:20240921T093000
DTSTAMP:20260423T191012
CREATED:20240724T160454Z
LAST-MODIFIED:20240724T160454Z
UID:2423-1726911000-1726911000@rotherhamwheelerscc.uk
SUMMARY:Dunham Bridge (66m)
DESCRIPTION:Cafe stop at Church Laneham
URL:https://rotherhamwheelerscc.uk/events/dunham-bridge-66m-7/
LOCATION:Wickersley Library\,  286 Bawtry Road  \, Rotherham\, S66 1JJ\, United Kingdom
CATEGORIES:Club Ride
END:VEVENT
BEGIN:VEVENT
DTSTART;TZID=Europe/London:20240918T093000
DTEND;TZID=Europe/London:20240918T093000
DTSTAMP:20260423T191012
CREATED:20240724T160454Z
LAST-MODIFIED:20240724T160454Z
UID:2422-1726651800-1726651800@rotherhamwheelerscc.uk
SUMMARY:Gainsborough (60m)
DESCRIPTION:
URL:https://rotherhamwheelerscc.uk/events/gainsborough-60m-11/
LOCATION:Wickersley Library\,  286 Bawtry Road  \, Rotherham\, S66 1JJ\, United Kingdom
CATEGORIES:Club Ride
END:VEVENT
BEGIN:VEVENT
DTSTART;TZID=Europe/London:20240916T093000
DTEND;TZID=Europe/London:20240916T093000
DTSTAMP:20260423T191012
CREATED:20240724T160453Z
LAST-MODIFIED:20240724T160453Z
UID:2421-1726479000-1726479000@rotherhamwheelerscc.uk
SUMMARY:Retford
DESCRIPTION:Greggs Monday ????
URL:https://rotherhamwheelerscc.uk/events/retford-52/
LOCATION:Wickersley Library\,  286 Bawtry Road  \, Rotherham\, S66 1JJ\, United Kingdom
CATEGORIES:Club Ride
END:VEVENT
BEGIN:VEVENT
DTSTART;TZID=Europe/London:20240914T093000
DTEND;TZID=Europe/London:20240914T093000
DTSTAMP:20260423T191012
CREATED:20240724T160453Z
LAST-MODIFIED:20240724T160453Z
UID:2420-1726306200-1726306200@rotherhamwheelerscc.uk
SUMMARY:Womersley (62m)
DESCRIPTION:
URL:https://rotherhamwheelerscc.uk/events/womersley-62m-6/
LOCATION:Wickersley Library\,  286 Bawtry Road  \, Rotherham\, S66 1JJ\, United Kingdom
CATEGORIES:Club Ride
END:VEVENT
BEGIN:VEVENT
DTSTART;TZID=Europe/London:20240911T093000
DTEND;TZID=Europe/London:20240911T093000
DTSTAMP:20260423T191012
CREATED:20240724T160438Z
LAST-MODIFIED:20240724T160438Z
UID:2419-1726047000-1726047000@rotherhamwheelerscc.uk
SUMMARY:Thoresby Park / Gamston
DESCRIPTION:
URL:https://rotherhamwheelerscc.uk/events/thoresby-park-gamston-10/
LOCATION:Wickersley Library\,  286 Bawtry Road  \, Rotherham\, S66 1JJ\, United Kingdom
CATEGORIES:Club Ride
END:VEVENT
BEGIN:VEVENT
DTSTART;TZID=Europe/London:20240909T093000
DTEND;TZID=Europe/London:20240909T093000
DTSTAMP:20260423T191012
CREATED:20240724T160438Z
LAST-MODIFIED:20240724T160438Z
UID:2418-1725874200-1725874200@rotherhamwheelerscc.uk
SUMMARY:Retford
DESCRIPTION:Greggs Monday ????
URL:https://rotherhamwheelerscc.uk/events/retford-51/
LOCATION:Wickersley Library\,  286 Bawtry Road  \, Rotherham\, S66 1JJ\, United Kingdom
CATEGORIES:Club Ride
END:VEVENT
BEGIN:VEVENT
DTSTART;TZID=Europe/London:20240907T093000
DTEND;TZID=Europe/London:20240907T093000
DTSTAMP:20260423T191012
CREATED:20240724T160438Z
LAST-MODIFIED:20240724T160438Z
UID:2417-1725701400-1725701400@rotherhamwheelerscc.uk
SUMMARY:Sutton-on-Trent (74m)
DESCRIPTION:
URL:https://rotherhamwheelerscc.uk/events/sutton-on-trent-74m-4/
LOCATION:Wickersley Library\,  286 Bawtry Road  \, Rotherham\, S66 1JJ\, United Kingdom
CATEGORIES:Club Ride
END:VEVENT
BEGIN:VEVENT
DTSTART;TZID=Europe/London:20240904T093000
DTEND;TZID=Europe/London:20240904T093000
DTSTAMP:20260423T191012
CREATED:20240724T160437Z
LAST-MODIFIED:20240724T160437Z
UID:2416-1725442200-1725442200@rotherhamwheelerscc.uk
SUMMARY:Moss
DESCRIPTION:Bike paths return
URL:https://rotherhamwheelerscc.uk/events/moss-9/
LOCATION:Wickersley Library\,  286 Bawtry Road  \, Rotherham\, S66 1JJ\, United Kingdom
CATEGORIES:Club Ride
END:VEVENT
BEGIN:VEVENT
DTSTART;TZID=Europe/London:20240902T093000
DTEND;TZID=Europe/London:20240902T093000
DTSTAMP:20260423T191012
CREATED:20240724T160437Z
LAST-MODIFIED:20240724T160437Z
UID:2415-1725269400-1725269400@rotherhamwheelerscc.uk
SUMMARY:Retford
DESCRIPTION:Greggs Monday ????
URL:https://rotherhamwheelerscc.uk/events/retford-50/
LOCATION:Wickersley Library\,  286 Bawtry Road  \, Rotherham\, S66 1JJ\, United Kingdom
CATEGORIES:Club Ride
END:VEVENT
BEGIN:VEVENT
DTSTART;TZID=Europe/London:20240831T093000
DTEND;TZID=Europe/London:20240831T093000
DTSTAMP:20260423T191012
CREATED:20240724T160423Z
LAST-MODIFIED:20240724T160423Z
UID:2414-1725096600-1725096600@rotherhamwheelerscc.uk
SUMMARY:Southwell (80m)
DESCRIPTION:
URL:https://rotherhamwheelerscc.uk/events/southwell-80m-5/
LOCATION:Wickersley Library\,  286 Bawtry Road  \, Rotherham\, S66 1JJ\, United Kingdom
CATEGORIES:Club Ride
END:VEVENT
BEGIN:VEVENT
DTSTART;TZID=Europe/London:20240828T093000
DTEND;TZID=Europe/London:20240828T093000
DTSTAMP:20260423T191012
CREATED:20240724T160423Z
LAST-MODIFIED:20240724T160423Z
UID:2413-1724837400-1724837400@rotherhamwheelerscc.uk
SUMMARY:Pleasley Pit / Vale (60m)
DESCRIPTION:
URL:https://rotherhamwheelerscc.uk/events/pleasley-pit-vale-60m-10/
LOCATION:Wickersley Library\,  286 Bawtry Road  \, Rotherham\, S66 1JJ\, United Kingdom
CATEGORIES:Club Ride
END:VEVENT
BEGIN:VEVENT
DTSTART;TZID=Europe/London:20240826T093000
DTEND;TZID=Europe/London:20240826T093000
DTSTAMP:20260423T191012
CREATED:20240724T160423Z
LAST-MODIFIED:20240724T160423Z
UID:2412-1724664600-1724664600@rotherhamwheelerscc.uk
SUMMARY:Retford
DESCRIPTION:Greggs Monday ????
URL:https://rotherhamwheelerscc.uk/events/retford-49/
LOCATION:Wickersley Library\,  286 Bawtry Road  \, Rotherham\, S66 1JJ\, United Kingdom
CATEGORIES:Club Ride
END:VEVENT
BEGIN:VEVENT
DTSTART;TZID=Europe/London:20240824T093000
DTEND;TZID=Europe/London:20240824T093000
DTSTAMP:20260423T191012
CREATED:20240724T160422Z
LAST-MODIFIED:20240724T160422Z
UID:2411-1724491800-1724491800@rotherhamwheelerscc.uk
SUMMARY:Eakring (66m)
DESCRIPTION:Daffodil Café in Eakring
URL:https://rotherhamwheelerscc.uk/events/eakring-66m-7/
LOCATION:Wickersley Library\,  286 Bawtry Road  \, Rotherham\, S66 1JJ\, United Kingdom
CATEGORIES:Club Ride
END:VEVENT
BEGIN:VEVENT
DTSTART;TZID=Europe/London:20240821T093000
DTEND;TZID=Europe/London:20240821T093000
DTSTAMP:20260423T191012
CREATED:20240724T160422Z
LAST-MODIFIED:20240724T160422Z
UID:2410-1724232600-1724232600@rotherhamwheelerscc.uk
SUMMARY:Gainsborough (60m)
DESCRIPTION:
URL:https://rotherhamwheelerscc.uk/events/gainsborough-60m-10/
LOCATION:Wickersley Library\,  286 Bawtry Road  \, Rotherham\, S66 1JJ\, United Kingdom
CATEGORIES:Club Ride
END:VEVENT
BEGIN:VEVENT
DTSTART;TZID=Europe/London:20240819T093000
DTEND;TZID=Europe/London:20240819T093000
DTSTAMP:20260423T191012
CREATED:20240724T160408Z
LAST-MODIFIED:20240724T160408Z
UID:2409-1724059800-1724059800@rotherhamwheelerscc.uk
SUMMARY:Retford
DESCRIPTION:Greggs Monday ????
URL:https://rotherhamwheelerscc.uk/events/retford-48/
LOCATION:Wickersley Library\,  286 Bawtry Road  \, Rotherham\, S66 1JJ\, United Kingdom
CATEGORIES:Club Ride
END:VEVENT
BEGIN:VEVENT
DTSTART;TZID=Europe/London:20240817T093000
DTEND;TZID=Europe/London:20240817T093000
DTSTAMP:20260423T191012
CREATED:20240724T160407Z
LAST-MODIFIED:20240724T160407Z
UID:2408-1723887000-1723887000@rotherhamwheelerscc.uk
SUMMARY:Newmillerdam (62m)
DESCRIPTION:
URL:https://rotherhamwheelerscc.uk/events/newmillerdam-62m-5/
LOCATION:Wickersley Library\,  286 Bawtry Road  \, Rotherham\, S66 1JJ\, United Kingdom
CATEGORIES:Club Ride
END:VEVENT
BEGIN:VEVENT
DTSTART;TZID=Europe/London:20240814T093000
DTEND;TZID=Europe/London:20240814T093000
DTSTAMP:20260423T191012
CREATED:20240724T160407Z
LAST-MODIFIED:20240724T160407Z
UID:2407-1723627800-1723627800@rotherhamwheelerscc.uk
SUMMARY:Thoresby Park / Gamston
DESCRIPTION:
URL:https://rotherhamwheelerscc.uk/events/thoresby-park-gamston-9/
LOCATION:Wickersley Library\,  286 Bawtry Road  \, Rotherham\, S66 1JJ\, United Kingdom
CATEGORIES:Club Ride
END:VEVENT
END:VCALENDAR